BEGIN:VCALENDAR
VERSION:2.0
PRODID:-//Corpbusiness - ECPv6.15.11//NONSGML v1.0//EN
CALSCALE:GREGORIAN
METHOD:PUBLISH
X-ORIGINAL-URL:https://corp.business
X-WR-CALDESC:Eventos para Corpbusiness
REFRESH-INTERVAL;VALUE=DURATION:PT1H
X-Robots-Tag:noindex
X-PUBLISHED-TTL:PT1H
BEGIN:VTIMEZONE
TZID:America/Sao_Paulo
BEGIN:STANDARD
TZOFFSETFROM:-0300
TZOFFSETTO:-0300
TZNAME:-03
DTSTART:20220101T000000
END:STANDARD
END:VTIMEZONE
BEGIN:VEVENT
DTSTART;TZID=America/Sao_Paulo:20230828T090000
DTEND;TZID=America/Sao_Paulo:20230828T180000
DTSTAMP:20260424T061907
CREATED:20230621T165814Z
LAST-MODIFIED:20230706T130222Z
UID:13855-1693213200-1693245600@corp.business
SUMMARY:13ª Ed. Internal Communications Summit
DESCRIPTION:UM POUCO SOBRE O CONGRESSO\nO FUTURO DA COMUNICAÇÃO INTERNA – ESTRATÉGICO E INOVADOR\nO mercado da comunicação interna em 2023 apresenta um cenário em constante evolução\, impulsionado pelas mudanças tecnológicas e pelas necessidades das empresas em se comunicar efetivamente com seus funcionários. Aqui estão algumas características e tendências relevantes para o mercado da comunicação interna neste ano: \n– Digitalização e ferramentas colaborativas: A digitalização continua a desempenhar um papel fundamental na comunicação interna. As empresas estão adotando intranets\, aplicativos móveis\, plataformas de colaboração em tempo real e outras ferramentas digitais para facilitar a comunicação e a colaboração entre os funcionários. \n– Personalização e segmentação: A personalização da comunicação interna se torna cada vez mais importante. As empresas estão buscando formas de segmentar suas mensagens e conteúdos\, adaptando-os aos interesses e necessidades específicas de diferentes grupos de funcionários. Isso ajuda a garantir que as informações sejam relevantes e significativas para cada indivíduo. \n– Foco na experiência do funcionário: As empresas estão valorizando cada vez mais a experiência do funcionário como parte essencial da comunicação interna. Isso envolve criar uma comunicação clara\, transparente e envolvente\, que ajude os funcionários a se sentirem conectados\, informados e valorizados. \n– Uso de tecnologia avançada: Tecnologias como inteligência artificial\, chatbots e automação estão sendo cada vez mais utilizadas no mercado da comunicação interna. Essas tecnologias ajudam a automatizar processos\, fornecer respostas rápidas a perguntas comuns\, personalizar a comunicação e melhorar a eficiência geral da comunicação interna. \n– Medição e análise de dados: As empresas estão se tornando mais orientadas por dados na comunicação interna. Elas estão utilizando métricas e análises para avaliar o impacto e a eficácia da comunicação interna\, permitindo ajustes e melhorias contínuas. \n– Integração com outras áreas: A comunicação interna está se integrando cada vez mais com outras áreas\, como recursos humanos\, marketing e tecnologia da informação. Essa integração possibilita uma abordagem mais estratégica e colaborativa na comunicação interna\, alinhando-a com as metas e objetivos organizacionais. \nEm resumo\, o mercado da comunicação interna em 2023 está impulsionado pela digitalização\, personalização\, foco na experiência do funcionário\, uso de tecnologias avançadas\, análise de dados e integração com outras áreas. As empresas estão reconhecendo cada vez mais a importância de uma comunicação interna eficaz para engajar e alinhar seus funcionários\, impulsionando o sucesso organizacional. \nNo futuro da comunicação interna\, espera-se que essas tendências continuem a se desenvolver e se aprofundar. A tecnologia continuará a desempenhar um papel fundamental\, com a adoção de ferramentas mais avançadas e a integração de dados para uma comunicação mais personalizada e eficaz. A ênfase na experiência do funcionário e na colaboração também se fortalecerá\, à medida que as empresas buscam criar culturas organizacionais saudáveis e engajadoras. A comunicação interna também pode se tornar mais estratégica\, alinhando-se aos objetivos de negócios e desempenhando um papel fundamental na gestão da mudança e no fortalecimento da cultura corporativa \nINSCREVA-SE
URL:https://corp.business/eventos/13a-ed-internal-communications-summit/
LOCATION:Hotel Slaviero Downtown São Paulo – Rua: Araujo\, 141  Republica  – São Paulo – (11) 3504-3959
CATEGORIES:Eventos
ATTACH;FMTTYPE=image/jpeg:https://corp.business/wp-content/uploads/2023/06/Business_English_Skills_SmallTalk.jpg
END:VEVENT
END:VCALENDAR