BEGIN:VCALENDAR
VERSION:2.0
PRODID:-//Corpbusiness - ECPv6.15.11//NONSGML v1.0//EN
CALSCALE:GREGORIAN
METHOD:PUBLISH
X-ORIGINAL-URL:https://corp.business
X-WR-CALDESC:Eventos para Corpbusiness
REFRESH-INTERVAL;VALUE=DURATION:PT1H
X-Robots-Tag:noindex
X-PUBLISHED-TTL:PT1H
BEGIN:VTIMEZONE
TZID:America/Sao_Paulo
BEGIN:STANDARD
TZOFFSETFROM:-0300
TZOFFSETTO:-0300
TZNAME:-03
DTSTART:20220101T000000
END:STANDARD
END:VTIMEZONE
BEGIN:VEVENT
DTSTART;TZID=America/Sao_Paulo:20230919T090000
DTEND;TZID=America/Sao_Paulo:20230919T180000
DTSTAMP:20260424T061944
CREATED:20230629T190126Z
LAST-MODIFIED:20230913T124700Z
UID:13862-1695114000-1695146400@corp.business
SUMMARY:6º Ed. Gestão Estratégica de Preços
DESCRIPTION:UM POUCO SOBRE O CONGRESSO\nGESTÃO ESTRATÉGICA DE PREÇOS: MAXIMIZANDO A RENTABILIDADE E O VALOR PARA O CLIENTE\nA gestão estratégica de preços é um componente essencial para o sucesso de qualquer organização. A precificação adequada dos produtos e serviços não apenas maximiza a rentabilidade\, mas também cria valor para os clientes. Neste artigo\, exploraremos os principais conceitos e estratégias envolvidos na gestão estratégica de preços\, abordando desde a análise de mercado até a implementação de estratégias de precificação diferenciadas. Além disso\, discutiremos o papel da tecnologia nesse processo e como ela pode ser usada para otimizar a gestão de preço. \nO Congresso Gestão Estratégica de Preços é um evento de destaque no cenário empresarial\, reunindo especialistas\, profissionais e acadêmicos para discutir as melhores práticas e tendências no campo da precificação estratégica. O congresso oferece uma plataforma única para compartilhar conhecimentos\, experiências e ideias inovadoras que impulsionam a rentabilidade e o valor para o cliente por meio da gestão estratégica de preços. Se você busca aprimorar suas habilidades na definição de preços\, maximizar a rentabilidade dos produtos e serviços e obter insights valiosos sobre as mais recentes estratégias de precificação\, este congresso é o lugar certo para você. \nParticipe do Congresso Gestão Estratégica de Preços e esteja na vanguarda das melhores práticas e inovações nesse campo fundamental para o sucesso empresarial. \nFAÇA SUA MATRÍCULA
URL:https://corp.business/eventos/6o-ed-gestao-estrategica-de-precos/
LOCATION:SP
CATEGORIES:Eventos
ATTACH;FMTTYPE=image/jpeg:https://corp.business/wp-content/uploads/2023/06/slide-02-1894x1042-1.jpg
END:VEVENT
END:VCALENDAR