BEGIN:VCALENDAR
VERSION:2.0
PRODID:-//Corpbusiness - ECPv6.15.11//NONSGML v1.0//EN
CALSCALE:GREGORIAN
METHOD:PUBLISH
X-WR-CALNAME:Corpbusiness
X-ORIGINAL-URL:https://corp.business
X-WR-CALDESC:Eventos para Corpbusiness
REFRESH-INTERVAL;VALUE=DURATION:PT1H
X-Robots-Tag:noindex
X-PUBLISHED-TTL:PT1H
BEGIN:VTIMEZONE
TZID:America/Sao_Paulo
BEGIN:STANDARD
TZOFFSETFROM:-0300
TZOFFSETTO:-0300
TZNAME:-03
DTSTART:20230101T000000
END:STANDARD
END:VTIMEZONE
BEGIN:VEVENT
DTSTART;TZID=America/Sao_Paulo:20240620T140000
DTEND;TZID=America/Sao_Paulo:20240621T180000
DTSTAMP:20260422T211148
CREATED:20240401T193103Z
LAST-MODIFIED:20240625T171759Z
UID:13994-1718892000-1718992800@corp.business
SUMMARY:2ª Turma - Treinamento Estratégias para Análise e Concessão de Crédit
DESCRIPTION:Objetivos do Curso: \n\nElaborar uma política de crédito formal e consistente;\nEstabelecer limites de crédito por cliente;\nConceituação e montagem de “Rating” de clientes;\nDiscorrer sobre os indicadores de gestão que validam a concessão do crédito;\nEmitir relatório para concessão ou não de crédito.\n\n\nPúblico-alvo\n\nProfissionais de todas as áreas que atuam na concessão de crédito e monitoram as cobranças junto aos clientes. O foco do curso é a análise e concessão de crédito para as Pessoas Jurídicas.\nConteúdo Programático\nElaboração de uma Política de Crédito;\nCenário econômico que envolve o mercado de crédito;\nConceito e decisão de crédito\, confiança e riscos;\nComo definir limites de crédito;\nOs 7 Cs do crédito;\nO monitoramento do Contas a Receber e a estrutura da cobrança;\nProcesso de análise de crédito para pessoas jurídicas;\nOperações de crédito no mercado financeiro nacional;\nConhecimento da estrutura contábil;\nAtivo\, Passivo e Patrimônio Líquido;\nEntenda a Demonstração de Resultados;\nPrincipais indicadores de desempenho das empresas;\nO que é o EBITDA e o EVA;\nElaboração de “Rating” de crédito;\nModelo estatístico de solvência;\nElaboração de roteiro e relatório para concessão do crédito.\n\n\nCarga Horária: 8 horas \nInvestimento: R$ 1965\,00 com 10% de desconto para pagamentos antecipados. \nInstrutor \n\nEconomista\, com pós-graduação em Finanças e Gestão Empresarial.\nProfessor de Administração Financeira\, Matemática Financeira e Contabilidade Societária.\nConsultor empresarial.\nCoordenador de curso de pós graduação MBA em Gestão de Negócios.\nFacilitador de 550 treinamentos empresariais.\n\nREALIZAR INSCRIÇÃO
URL:https://corp.business/eventos/estrategias-para-analise-e-concessao-de-credito/
LOCATION:100% ONLINE
CATEGORIES:Treinamentos
ATTACH;FMTTYPE=image/jpeg:https://corp.business/wp-content/uploads/2024/04/featured-image-1-1-1.jpg
END:VEVENT
END:VCALENDAR