BEGIN:VCALENDAR
VERSION:2.0
PRODID:-//Corpbusiness - ECPv6.15.11//NONSGML v1.0//EN
CALSCALE:GREGORIAN
METHOD:PUBLISH
X-ORIGINAL-URL:https://corp.business
X-WR-CALDESC:Eventos para Corpbusiness
REFRESH-INTERVAL;VALUE=DURATION:PT1H
X-Robots-Tag:noindex
X-PUBLISHED-TTL:PT1H
BEGIN:VTIMEZONE
TZID:America/Sao_Paulo
BEGIN:STANDARD
TZOFFSETFROM:-0300
TZOFFSETTO:-0300
TZNAME:-03
DTSTART:20230101T000000
END:STANDARD
END:VTIMEZONE
BEGIN:VEVENT
DTSTART;TZID=America/Sao_Paulo:20240829T090000
DTEND;TZID=America/Sao_Paulo:20240830T130000
DTSTAMP:20260422T152522
CREATED:20240619T144500Z
LAST-MODIFIED:20240829T203718Z
UID:14028-1724922000-1725022800@corp.business
SUMMARY:2ª Turma - Indicadores Financeiros para Maximizar Resultados
DESCRIPTION:OBJETIVOS \n\nElaborar um mapa com os principais indicadores financeiros para servir de balizamento para a Gestão Financeira; Conhecer as ferramentas de Finanças;\nComo se dá a geração de lucro\, de caixa e valor;\nEntender as razões da tomada de decisão de investimento e financiamento;\nConhecer o destino de cada centavo que entra e sai do Caixa;\nConhecer o destino de cada ponto percentual de suas vendas. A quem se destina; Profissionais da área financeira e não financeira das empresas e demais interessados em conhecer o ambiente do mercado financeiro.\n\nPROGRAMA \n\nPrincipais indicadores de desempenho\nA importância do Capital de Giro\nPrazo médio de pagamento e de recebimento\nPrazo médio de renovação dos estoques • Ciclo operacional e ciclo financeiro – como se dá a geração de caixa\nComo se dá a geração de lucro\nFoco no EBITDA e no EVA\nMargem bruta\, de contribuição\, operacional e líquida • A diferença entre Lucratividade e Rentabilidade\nRentabilidade do dono e da empresa • Visão financeira do Balanço patrimonial\nLiquidez e endividamento – até onde a empresa pode se endividar?\nAcompanhamento mensal dos indicadores de gestão\nQuanto maior\, melhor ou quanto menor\, melhor\nMétodo Du Pont – Giro x Margem\nFontes de financiamento de um ativo\nCapital Próprio x Capital de Terceiros\nEmpresas capitalizadas e alavancadas\nPor que as empresas promovem a abertura de capital – operações IPO\nCusto de oportunidade do dinheiro • Custo Médio Ponderado de Capital – CMPC\nFerramentas para a tomada de decisão de financiamento\nFerramentas para a tomada de decisão de investimento\nComo os indicadores financeiros interferem no planejamento das empresas\n\nCarga Horária: 8 horas \nInvestimento: R$ 1965\,00 com 10% de desconto para pagamentos antecipados. \nInstrutor: Julio Diniz Junior – Economista\, com pós-graduação em Finanças e Gestão Empresarial. Professor de Administração Financeira\, Matemática Financeira e Contabilidade Societária. Consultor empresarial. Coordenador de curso de pós graduação em Gestão Estratégica de Negócios. Facilitador de 570 treinamentos empresariais. \nPalestrante sobre temas como Finanças Pessoais e Empreendedorismo. \nINSCREVA-SE
URL:https://corp.business/eventos/2a-turma-indicadores-financeiros-para-maximizar-resultados-29-e-30-de-agosto/
LOCATION:Hotel Slaviero Downtown São Paulo – Rua: Araujo\, 141  Republica  – São Paulo – (11) 3504-3959
CATEGORIES:Treinamentos
ATTACH;FMTTYPE=image/jpeg:https://corp.business/wp-content/uploads/2024/06/5-Best-Practices-to-Find-a-Payment-Processing-Company.jpg
END:VEVENT
END:VCALENDAR