BEGIN:VCALENDAR
VERSION:2.0
PRODID:-//Corpbusiness - ECPv6.15.11//NONSGML v1.0//EN
CALSCALE:GREGORIAN
METHOD:PUBLISH
X-ORIGINAL-URL:https://corp.business
X-WR-CALDESC:Eventos para Corpbusiness
REFRESH-INTERVAL;VALUE=DURATION:PT1H
X-Robots-Tag:noindex
X-PUBLISHED-TTL:PT1H
BEGIN:VTIMEZONE
TZID:America/Sao_Paulo
BEGIN:STANDARD
TZOFFSETFROM:-0300
TZOFFSETTO:-0300
TZNAME:-03
DTSTART:20230101T000000
END:STANDARD
END:VTIMEZONE
BEGIN:VEVENT
DTSTART;TZID=America/Sao_Paulo:20241105T090000
DTEND;TZID=America/Sao_Paulo:20241106T180000
DTSTAMP:20260422T061016
CREATED:20240911T152418Z
LAST-MODIFIED:20240923T202411Z
UID:14062-1730797200-1730916000@corp.business
SUMMARY:Gestão Estratégica de Compras
DESCRIPTION:UM POUCO SOBRE O CONGRESSO\nFÓRUM DE ESTRATÉGIAS EM COMPRAS\nO Fórum de Estratégias em Compras 2024 é um evento de referência para profissionais de compras que desejam aprimorar suas competências e conhecer as melhores práticas e inovações na área. Este evento oferece uma plataforma para discutir estratégias avançadas\, compartilhar insights e explorar soluções tecnológicas que estão redefinindo o papel das compras nas organizações modernas. Com palestras de especialistas renomados\, sessões interativas e oportunidades de networking\, o fórum proporciona um ambiente ideal para o desenvolvimento profissional e a troca de experiências. \nObjetivos do Evento: \n\nCapacitar profissionais com técnicas avançadas de compras.\nDiscutir tendências e inovações tecnológicas no setor.\nPromover a troca de experiências e networking entre os participantes\nApresentar casos de sucesso e melhores práticas em compras.\n\nPúblico-Alvo: \n\nGestores de compras\nProfissionais de supply chain\nExecutivos e diretores\nConsultores e analistas de compras\n\nEste evento é uma oportunidade única para os profissionais de compras se atualizarem com as últimas tendências e melhores práticas do setor\, contribuindo significativamente para a melhoria de suas operações e o sucesso de suas organizações.\nINSCREVA-SE
URL:https://corp.business/eventos/gestao-estrategica-de-compras/
LOCATION:Gran Villagio Hotel\, Rua martins fontes 330
CATEGORIES:Eventos
ATTACH;FMTTYPE=image/jpeg:https://corp.business/wp-content/uploads/2021/11/banner-1.jpg
END:VEVENT
END:VCALENDAR