BEGIN:VCALENDAR
VERSION:2.0
PRODID:-//Corpbusiness - ECPv6.15.11//NONSGML v1.0//EN
CALSCALE:GREGORIAN
METHOD:PUBLISH
X-WR-CALNAME:Corpbusiness
X-ORIGINAL-URL:https://corp.business
X-WR-CALDESC:Eventos para Corpbusiness
REFRESH-INTERVAL;VALUE=DURATION:PT1H
X-Robots-Tag:noindex
X-PUBLISHED-TTL:PT1H
BEGIN:VTIMEZONE
TZID:America/Sao_Paulo
BEGIN:STANDARD
TZOFFSETFROM:-0300
TZOFFSETTO:-0300
TZNAME:-03
DTSTART:20230101T000000
END:STANDARD
END:VTIMEZONE
BEGIN:VEVENT
DTSTART;TZID=America/Sao_Paulo:20241112T090000
DTEND;TZID=America/Sao_Paulo:20241113T180000
DTSTAMP:20260422T060333
CREATED:20240904T141027Z
LAST-MODIFIED:20240923T202734Z
UID:14056-1731402000-1731520800@corp.business
SUMMARY:Gestão Estratégica de Preços
DESCRIPTION:UM POUCO SOBRE O CONGRESSO\nTRANSFORMANDO DESAFIOS EM OPORTUNIDADES: A NOVA ERA DA GESTÃO ESTRATÉGICA DE PREÇOS\nO Congresso Gestão Estratégica de Preços 2024 reúne líderes empresariais\, especialistas em finanças e profissionais de marketing para explorar as abordagens mais recentes e eficazes na definição de preços. O evento é projetado para fornecer insights e ferramentas para otimizar a precificação\, garantindo competitividade e rentabilidade em um mercado em constante mudança. \n1. ANÁLISE DE MERCADO E POSICIONAMENTO DE PREÇO\nAbordagem Estratégica: Entender o comportamento do consumidor e os movimentos da concorrência é fundamental para um posicionamento de preço eficaz. Usaremos técnicas avançadas de análise de mercado para identificar oportunidades de diferenciação. \nRecentes Avanços: \n\n· Uso de big data para obter insights profundos sobre as preferências dos clientes.\n· Ferramentas de benchmarking para posicionamento competitivo.\n\n2. MODELOS DE PRECIFICAÇÃO BASEADOS EM VALOR\nAbordagem Estratégica: A precificação baseada em valor foca no quanto o cliente está disposto a pagar\, em vez de apenas nos custos. É crucial para maximizar o lucro e o valor percebido. \nRecentes Avanços: \n· Desenvolvimento de métricas para mensurar o valor percebido.\n· Casos de sucesso de empresas que adotaram a precificação baseada em valor.\n\n3. ESTRATÉGIAS DE PRECIFICAÇÃO DINÂMICA E PERSONALIZADA\nAbordagem Estratégica: Precificação dinâmica ajusta preços em tempo real com base na demanda e outros fatores. Personalização de preços cria ofertas individualizadas para maximizar a conversão. \nRecentes Avanços: \n· Algoritmos de machine learning que ajustam preços automaticamente.\n· Personalização de preços através de análise de comportamento do consumidor.\n\n4. O PAPEL DA TECNOLOGIA NA GESTÃO DE PREÇOS\nAbordagem Estratégica:\nTecnologias emergentes\, como inteligência artificial\, estão revolucionando a gestão de preços\, permitindo análises em tempo real e previsões precisas.\nRecentes Avanços: \n\n· Aplicação de inteligência artificial para prever variações de demanda e ajustar preços.\n· Plataformas integradas de gestão de preços que automatizam o processo de definição de preços.\n\n5. PRECIFICAÇÃO EM TEMPO REAL\nAbordagem Estratégica: A precificação em tempo real permite uma resposta rápida às mudanças do mercado\, maximizando a receita e minimizando as perdas. \nRecentes Avanços: \n· Implementação de sistemas de preços em tempo real em setores de alta rotatividade.\n· Adaptação rápida a flutuações de mercado e comportamento do consumidor.\n\n6. GESTÃO DE DESCONTOS E PROMOÇÕES\nAbordagem Estratégica: Gerenciar descontos e promoções de forma estratégica é essencial para atrair clientes sem comprometer a margem de lucro. \nRecentes Avanços: \n· Uso de analytics para medir o impacto de promoções em tempo real.\n· Estratégias de fidelização que equilibram descontos e valor percebido.\n\n7. PRECIFICAÇÃO GLOBAL: ADAPTANDO-SE A DIFERENTES MERCADOS\nAbordagem Estratégica: Adaptar a estratégia de preços para mercados internacionais leva em conta diferenças culturais\, econômicas e de concorrência. \nRecentes Avanços: \n· Ferramentas de análise que ajudam a adaptar preços em múltiplos mercados.\n· Estudos de caso de empresas que ajustaram com sucesso seus preços globalmente.\n\nA gestão estratégica de preços é uma ferramenta poderosa para impulsionar o crescimento e a lucratividade. Este congresso oferece uma oportunidade única para explorar as mais recentes inovações e tendências na área\, equipando os participantes com as habilidades e conhecimentos necessários para transformar desafios em oportunidades. \nEncerramento e Call-to-Action: Junte-se a nós no Congresso Gestão Estratégica de Preços 2024 e esteja na vanguarda das práticas de precificação que estão moldando o futuro dos negócios. Garanta sua inscrição agora e prepare-se para revolucionar sua abordagem de gestão de preços! \nINSCREVA-SE
URL:https://corp.business/eventos/gestao-estrategica-de-precos/
LOCATION:Gran Villagio Hotel\, Rua martins fontes 330
CATEGORIES:Eventos
ATTACH;FMTTYPE=image/jpeg:https://corp.business/wp-content/uploads/2022/03/Academics-Undergraduate-Accounting-Hand-on-Calculator.jpg
END:VEVENT
END:VCALENDAR