BEGIN:VCALENDAR
VERSION:2.0
PRODID:-//Corpbusiness - ECPv6.15.11//NONSGML v1.0//EN
CALSCALE:GREGORIAN
METHOD:PUBLISH
X-ORIGINAL-URL:https://corp.business
X-WR-CALDESC:Eventos para Corpbusiness
REFRESH-INTERVAL;VALUE=DURATION:PT1H
X-Robots-Tag:noindex
X-PUBLISHED-TTL:PT1H
BEGIN:VTIMEZONE
TZID:America/Sao_Paulo
BEGIN:STANDARD
TZOFFSETFROM:-0300
TZOFFSETTO:-0300
TZNAME:-03
DTSTART:20240101T000000
END:STANDARD
END:VTIMEZONE
BEGIN:VEVENT
DTSTART;TZID=America/Sao_Paulo:20250205T090000
DTEND;TZID=America/Sao_Paulo:20250206T180000
DTSTAMP:20260421T201806
CREATED:20241105T205522Z
LAST-MODIFIED:20241125T173806Z
UID:14082-1738746000-1738864800@corp.business
SUMMARY:Congresso Remuneração Estratégica e Benefícios 2025
DESCRIPTION:UM POUCO SOBRE O CONGRESSO\nPerspectiva e Tendencias Remuneração Estratégica e Benefícios 2024\nBem-vindo à apresentação sobre a evolução da Remuneração Estratégica e Benefícios em 2024. Nesta análise\, exploraremos as tendências e perspectivas que moldarão o cenário de remuneração nos próximos anos. \nNos últimos tempos\, testemunhamos mudanças transformadoras no campo da remuneração e benefícios. O avanço tecnológico\, aliado às crescentes expectativas dos colaboradores\, está redefinindo a forma como as organizações encaram suas estratégias de remuneração. Em 2024\, essa evolução continuará e exigirá uma adaptação ágil e inovação constante para garantir o sucesso futuro. \nUma das principais tendências que dominarão o cenário será a integração de tecnologias avançadas na gestão de remuneração. A inteligência artificial (IA) e a análise de dados em larga escala se destacarão\, proporcionando uma avaliação mais precisa das necessidades dos colaboradores e automatizando processos complexos de administração de benefícios. \nA personalização da experiência do colaborador será outro pilar estratégico em 2024. Assim como vimos nas áreas de crédito e cobrança\, as organizações de RH estão buscando oferecer pacotes de remuneração e benefícios altamente personalizados. Isso não se limita apenas aos valores monetários\, mas também a opções flexíveis que atendam às demandas individuais de cada colaborador. \nTransparência\, um tema crítico em 2024\, será essencial. Empresas serão desafiadas a serem mais claras sobre suas políticas de remuneração\, explicando de maneira acessível as estruturas salariais\, benefícios oferecidos e os critérios para progressão na carreira. A confiança dos colaboradores se vinculará diretamente à transparência praticada pelas organizações \nEm resumo\, a Remuneração Estratégica e Benefícios em 2024 será marcada por uma integração mais profunda de tecnologias avançadas\, pela personalização extensiva da experiência do colaborador e por um compromisso inabalável com a transparência. As empresas que abraçarem e se adaptarem a essas tendências estarão não apenas alinhadas com as expectativas do futuro\, mas também se destacarão como líderes em um ambiente de constante transformação. \nINSCREVA-SE
URL:https://corp.business/eventos/congresso-remuneracao-estrategica-e-beneficios-2025/
LOCATION:Hotel Slaviero Downtown São Paulo – Rua: Araujo\, 141  Republica  – São Paulo – (11) 3504-3959
CATEGORIES:Eventos
ATTACH;FMTTYPE=image/webp:https://corp.business/wp-content/uploads/2024/11/accounting-for-startups-scaled-1.webp
END:VEVENT
END:VCALENDAR