BEGIN:VCALENDAR
VERSION:2.0
PRODID:-//Corpbusiness - ECPv6.15.11//NONSGML v1.0//EN
CALSCALE:GREGORIAN
METHOD:PUBLISH
X-ORIGINAL-URL:https://corp.business
X-WR-CALDESC:Eventos para Corpbusiness
REFRESH-INTERVAL;VALUE=DURATION:PT1H
X-Robots-Tag:noindex
X-PUBLISHED-TTL:PT1H
BEGIN:VTIMEZONE
TZID:America/Sao_Paulo
BEGIN:STANDARD
TZOFFSETFROM:-0300
TZOFFSETTO:-0300
TZNAME:-03
DTSTART:20240101T000000
END:STANDARD
END:VTIMEZONE
BEGIN:VEVENT
DTSTART;TZID=America/Sao_Paulo:20250219T090000
DTEND;TZID=America/Sao_Paulo:20250220T180000
DTSTAMP:20260421T201905
CREATED:20241206T132500Z
LAST-MODIFIED:20241206T132518Z
UID:14091-1739955600-1740074400@corp.business
SUMMARY:FP&A Estratégico
DESCRIPTION:Sobre o Evento\nEvento FP&A: transforme seu planejamento financeiro com insights de líderes\, tecnologias emergentes e inovações para eficiência e precisão. \nUma oportunidade única para profissionais de finanças que buscam transformar suas operações de planejamento e análise financeira. \nDurante dois dias\, líderes e especialistas da área compartilharão insights sobre como alinhar as funções de FP&A com as metas estratégicas da empresa\, elevando a eficiência\, precisão e inovação no setor. \nCom um foco especial em tecnologias emergentes\, inteligência artificial e automação\, o congresso abordará os principais desafios enfrentados pelas equipes de FP&A e fornecerá soluções práticas para melhorar a previsão\, gestão de riscos e a eficiência dos processos financeiros. Os participantes terão a chance de aprender como essas novas abordagens estão transformando a forma como as empresas planejam e gerenciam seu desempenho financeiro\, permitindo uma melhor tomada de decisões em tempos de incerteza econômica. \nEste evento será essencial para qualquer executivo financeiro que deseja estar à frente das mudanças e preparar sua equipe para um futuro mais ágil e conectado. O Congresso FP&A proporcionará uma plataforma para networking\, além de oferecer uma visão estratégica sobre o futuro do FP&A e seu papel cada vez mais central no sucesso empresarial. \nPontos Importantes: \n  \n\n\n\nVisão estratégica: Alinhamento de FP&A com metas corporativas.\n\n\n\n\n\n\nInovação tecnológica: Uso de IA e automação no planejamento financeiro.\n\n\n\n\n\n\nPrecisão de previsões: Melhores práticas para previsões financeiras robustas.\n\n\n\n\n\n\nEficiência operacional: Redução de custos e melhoria na eficiência dos processos.\n\n\n\n\n\n\nAnálise preditiva: Tomada de decisões financeiras baseada em dados e machine learning.\n\n\n\n  \nPor que Devem Participar? \nEste congresso é uma oportunidade imperdível para líderes que buscam adaptar suas estratégias financeiras às mudanças rápidas no mercado. Executivos do setor terão acesso a conhecimento especializado sobre o uso de tecnologias disruptivas\, como IA e big data\, para melhorar a precisão das previsões financeiras\, tomar decisões mais assertivas e impulsionar o crescimento sustentável. Além disso\, o evento cria um ambiente propício para a troca de experiências e networking com outros líderes do setor\, o que é fundamental para se manter competitivo e inovador. \nObjetivo: Este congresso visa capacitar executivos financeiros a adotarem estratégias avançadas de Planejamento Financeiro e Análise (FP&A)\, oferecendo insights práticos sobre como melhorar a precisão de previsões\, impulsionar o crescimento e lidar com incertezas econômicas. \nREALIZAR INSCRIÇÃO
URL:https://corp.business/eventos/fpa-estrategico/
LOCATION:Hotel Slaviero Downtown São Paulo – Rua: Araujo\, 141  Republica  – São Paulo – (11) 3504-3959
CATEGORIES:Eventos
ATTACH;FMTTYPE=image/webp:https://corp.business/wp-content/uploads/2024/12/11062b_d4b001695a67432f84fad8c7875bf03emv2-1.webp
END:VEVENT
END:VCALENDAR