BEGIN:VCALENDAR
VERSION:2.0
PRODID:-//Corpbusiness - ECPv6.15.11//NONSGML v1.0//EN
CALSCALE:GREGORIAN
METHOD:PUBLISH
X-ORIGINAL-URL:https://corp.business
X-WR-CALDESC:Eventos para Corpbusiness
REFRESH-INTERVAL;VALUE=DURATION:PT1H
X-Robots-Tag:noindex
X-PUBLISHED-TTL:PT1H
BEGIN:VTIMEZONE
TZID:America/Sao_Paulo
BEGIN:STANDARD
TZOFFSETFROM:-0300
TZOFFSETTO:-0300
TZNAME:-03
DTSTART:20240101T000000
END:STANDARD
END:VTIMEZONE
BEGIN:VEVENT
DTSTART;TZID=America/Sao_Paulo:20250514T090000
DTEND;TZID=America/Sao_Paulo:20250515T180000
DTSTAMP:20260421T103750
CREATED:20250214T130403Z
LAST-MODIFIED:20250214T130438Z
UID:14115-1747213200-1747332000@corp.business
SUMMARY:Comunicação Interna 2025
DESCRIPTION:A comunicação interna é o pilar que sustenta a cultura organizacional\, impulsiona o engajamento e conecta os colaboradores à visão da empresa. No Congresso de Comunicação Interna 2025\, exploraremos as melhores práticas\, inovações tecnológicas e estratégias que estão moldando o futuro da comunicação corporativa.\nEste evento foi projetado para reunir líderes\, gestores e especialistas em um espaço de troca de conhecimentos\, networking e aprendizado\, promovendo a construção de organizações mais conectadas e humanas. \nDiferenciais do Evento\n• Conteúdo Exclusivo: Palestras de especialistas reconhecidos no mercado.\n• Tópicos Estratégicos: Foco em tendências como comunicação inclusiva\, digitalização e storytelling corporativo.\n• Experiência Imersiva: Atividades interativas\, sessões de networking e momentos para troca de ideias.\n• Ambiente Inspirador: Um espaço pensado para estimular a criatividade e a inovação. \nO Que Você Vai Aprender?\n• Fortalecer a conexão com colaboradores por meio de campanhas alinhadas à cultura organizacional.\n• Utilizar a tecnologia para engajar equipes\, implementando ferramentas digitais que transformam a comunicação.\n• Humanizar mensagens internas\, utilizando storytelling e comunicação inclusiva para aumentar a adesão.\n• Medir e otimizar resultados\, implementando indicadores de sucesso para a comunicação interna. \nBenefícios de Participar\n1. Atualização Profissional: Conheça as tendências e práticas mais recentes do mercado.\n2. Networking Qualificado: Conecte-se com profissionais da área de comunicação e RH.\n3. Aplicabilidade Prática: Estratégias e ferramentas que você pode implementar imediatamente na sua organização.\n4. Certificação Exclusiva: Receba um certificado de participação reconhecido pelo mercado. \nPúblico-Alvo\n• Profissionais de comunicação interna e endomarketing.\n• Gestores de Recursos Humanos.\n• Líderes e executivos que desejam transformar a comunicação em suas empresas.\n• Consultores e analistas que atuam em projetos de cultura organizacional. \nINSCREVA-SE
URL:https://corp.business/eventos/comunicacao-interna-2025/
LOCATION:Hotel Slaviero Downtown São Paulo – Rua: Araujo\, 141  Republica  – São Paulo – (11) 3504-3959
CATEGORIES:Eventos
ATTACH;FMTTYPE=image/jpeg:https://corp.business/wp-content/uploads/2025/02/1738951493_1000_F_253416811_5kum8Xhf1EBb3wYfL5fIcBGcE8uPkfZg.jpg
END:VEVENT
END:VCALENDAR