BEGIN:VCALENDAR
VERSION:2.0
PRODID:-//Corpbusiness - ECPv6.15.11//NONSGML v1.0//EN
CALSCALE:GREGORIAN
METHOD:PUBLISH
X-ORIGINAL-URL:https://corp.business
X-WR-CALDESC:Eventos para Corpbusiness
REFRESH-INTERVAL;VALUE=DURATION:PT1H
X-Robots-Tag:noindex
X-PUBLISHED-TTL:PT1H
BEGIN:VTIMEZONE
TZID:America/Sao_Paulo
BEGIN:STANDARD
TZOFFSETFROM:-0300
TZOFFSETTO:-0300
TZNAME:-03
DTSTART:20250101T000000
END:STANDARD
END:VTIMEZONE
BEGIN:VEVENT
DTSTART;TZID=America/Sao_Paulo:20260211T080000
DTEND;TZID=America/Sao_Paulo:20260212T170000
DTSTAMP:20260420T034243
CREATED:20251210T015526Z
LAST-MODIFIED:20251210T124731Z
UID:14270-1770796800-1770915600@corp.business
SUMMARY:Remuneração e Benefícios 2026
DESCRIPTION:Em um mundo corporativo onde o capital humano define a fronteira da competitividade\, a CorpBusiness apresenta o Remuneração Estratégica & Benefícios Summit 2026. Este não é apenas um congresso; é o epicentro da transformação nas políticas de recompensas\, um chamado para líderes que entendem que remunerar é mais do que pagar salários: é inspirar performance\, fortalecer a cultura e construir um legado de valor compartilhado. Sob o conceito “Recompensar para crescer: como a remuneração estratégica e os benefícios moldam o futuro das organizações”\, reunimos a vanguarda da liderança executiva para redesenhar o futuro do trabalho. \nNossa metodologia foi desenhada para maximizar o aprendizado e a inspiração\, mesclando Keynotes Individuais com Painéis Executivos. As Keynotes oferecem uma visão de futuro\, com palestras magnas e inspiracionais que desafiam o status quo e provocam reflexões sobre liderança e tendências globais. Em contrapartida\, os Painéis Executivos aprofundam o debate\, com discussões técnicas e estratégicas entre múltiplos especialistas\, focadas em frameworks práticos\, estudos de caso e soluções aplicáveis aos desafios reais das corporações. \nO propósito central do Summit é claro: posicionar a remuneração e os benefícios como alavancas estratégicas de competitividade\, engajamento e governança. Vamos demonstrar como um sistema de recompensas inteligente e humanizado atrai os melhores talentos\, alinha comportamentos à estratégia do negócio\, promove uma cultura de meritocracia e\, finalmente\, impulsiona o crescimento sustentável. Este evento é essencial para decodificar o novo contrato social entre empresas e colaboradores. \nO congresso é destinado a CEOs\, CFOs\, CHROs\, diretores de RH\, conselheiros\, e especialistas em remuneração\, benefícios e governança. Os participantes sairão com um arsenal de insights e ferramentas para desenhar e implementar políticas de remuneração que equilibram performance financeira e valorização humana\, prontas para os desafios de um ambiente de negócios em constante evolução. Prepare-se para uma imersão profunda que irá redefinir sua visão sobre como recompensar\, engajar e liderar. \nFAÇA SUA INSCRIÇÃO!
URL:https://corp.business/eventos/remuneracao-e-beneficios-2026/
LOCATION:São Paulo – SP
CATEGORIES:Eventos
ATTACH;FMTTYPE=image/jpeg:https://corp.business/wp-content/uploads/2025/12/Rafael-Baltresca-palestra-de-vendas-para-seu-evento-768x512-1.jpg
END:VEVENT
END:VCALENDAR