BEGIN:VCALENDAR
VERSION:2.0
PRODID:-//Corpbusiness - ECPv6.15.11//NONSGML v1.0//EN
CALSCALE:GREGORIAN
METHOD:PUBLISH
X-WR-CALNAME:Corpbusiness
X-ORIGINAL-URL:https://corp.business
X-WR-CALDESC:Eventos para Corpbusiness
REFRESH-INTERVAL;VALUE=DURATION:PT1H
X-Robots-Tag:noindex
X-PUBLISHED-TTL:PT1H
BEGIN:VTIMEZONE
TZID:America/Sao_Paulo
BEGIN:STANDARD
TZOFFSETFROM:-0300
TZOFFSETTO:-0300
TZNAME:-03
DTSTART:20250101T000000
END:STANDARD
END:VTIMEZONE
BEGIN:VEVENT
DTSTART;TZID=America/Sao_Paulo:20260429T090000
DTEND;TZID=America/Sao_Paulo:20260430T180000
DTSTAMP:20260419T205647
CREATED:20250924T195015Z
LAST-MODIFIED:20260123T014700Z
UID:14233-1777453200-1777572000@corp.business
SUMMARY:Smart Ops Summit 2026
DESCRIPTION:SMART OPS SUMMIT 2026\nOperações Inteligentes \n\nObjetivos do Evento\nReunir lideranças operacionais\, de RH\, supply\, planejamento e jurídico em um encontro para discutir como modernizar estruturas internas com foco em eficiência\, automação\, métricas e pessoas. Serão dois dias de conteúdo aplicável\, com insights de empresas líderes e networking estratégico. \n\nPúblico-alvo\nHeads e diretores de Supply\, SOP\, RH\, Jurídico e Tech \nCoordenadores de processos e backoffice \nExecutivos responsáveis por eficiência operacional \nEmpresas em fase de reestruturação ou crescimento acelerado \n\nObjetivos do Evento \nAutomação de processos e integração de sistemas \nIndicadores operacionais (OKRs\, KPIs\, SLAs) \nGovernança\, riscos e compliance inteligente \nInteligência de dados aplicada à rotina \nPapel estratégico do RH na performance \nCasos de sucesso em transformação operacional \n\n\nLocal do Evento:\nHotel Slaviero Downtown São PauloRua: Araújo\, 141 – Republica – São Paulo\n\nINSCREVA-SE
URL:https://corp.business/eventos/smart-ops-summit-2026/
LOCATION:Hotel Slaviero Downtown São Paulo\, R. Araújo\, 141 - República\, São Paulo\, SP\, 01220-020\, Brazil
CATEGORIES:Eventos
ATTACH;FMTTYPE=image/jpeg:https://corp.business/wp-content/uploads/2025/09/smart.jpg
END:VEVENT
END:VCALENDAR