BEGIN:VCALENDAR
VERSION:2.0
PRODID:-//Corpbusiness - ECPv6.15.11//NONSGML v1.0//EN
CALSCALE:GREGORIAN
METHOD:PUBLISH
X-ORIGINAL-URL:https://corp.business
X-WR-CALDESC:Eventos para Corpbusiness
REFRESH-INTERVAL;VALUE=DURATION:PT1H
X-Robots-Tag:noindex
X-PUBLISHED-TTL:PT1H
BEGIN:VTIMEZONE
TZID:America/Sao_Paulo
BEGIN:STANDARD
TZOFFSETFROM:-0300
TZOFFSETTO:-0300
TZNAME:-03
DTSTART:20250101T000000
END:STANDARD
END:VTIMEZONE
BEGIN:VEVENT
DTSTART;TZID=America/Sao_Paulo:20260422T090000
DTEND;TZID=America/Sao_Paulo:20260423T180000
DTSTAMP:20260419T170346
CREATED:20250822T154055Z
LAST-MODIFIED:20260201T010415Z
UID:14202-1776848400-1776967200@corp.business
SUMMARY:PMO Forum Miami 2026
DESCRIPTION:Redefining Project Management for Global Impact \n🔹 Presentation \nThe PMO Forum Miami is not just another conference. It is a strategic gathering of senior executives and global leaders in Project\, Portfolio\, and Strategy Management\, designed to redefine the role of PMOs in a fast-changing world. \nOver two days\, participants will experience: \n\nCutting-edge content: how PMOs are evolving from operational support to drivers of strategic transformation.\nGlobal insights: best practices from leading organizations in the Americas\, Europe\, and beyond.\nPremium networking: exclusive connections with decision-makers shaping the future of project governance.\nPractical frameworks: real cases\, tools\, and methodologies that can be applied immediately to deliver measurable business value.\n\nThe PMO Forum Miami goes beyond theory. It is a platform for impact\, where knowledge meets opportunity and where executives align on the future of organizational performance. \n🎯 Key Topics \n\nStrategic PMO: from governance to value creation\nPortfolio prioritization and decision-making in uncertain times\nAgile PMOs: balancing flexibility and control\nLeadership\, culture\, and people transformation\nAI\, data and automation applied to project governance\nThe PMO as an enabler of innovation and resilience\nThe future of work and global collaboration\nLessons from U.S. and LatAm leading companies\n\nINSCREVA-SE!
URL:https://corp.business/eventos/pmo-forum-miami-2026/
LOCATION:SP
CATEGORIES:Eventos
ATTACH;FMTTYPE=image/webp:https://corp.business/wp-content/uploads/2025/08/xconsulting-page-1024x571.jpeg.pagespeed.ic_.1s0EAy2QK5.webp
END:VEVENT
END:VCALENDAR