BEGIN:VCALENDAR
VERSION:2.0
PRODID:-//Corpbusiness - ECPv6.15.11//NONSGML v1.0//EN
CALSCALE:GREGORIAN
METHOD:PUBLISH
X-ORIGINAL-URL:https://corp.business
X-WR-CALDESC:Eventos para Corpbusiness
REFRESH-INTERVAL;VALUE=DURATION:PT1H
X-Robots-Tag:noindex
X-PUBLISHED-TTL:PT1H
BEGIN:VTIMEZONE
TZID:UTC
BEGIN:STANDARD
TZOFFSETFROM:+0000
TZOFFSETTO:+0000
TZNAME:UTC
DTSTART:20210101T000000
END:STANDARD
END:VTIMEZONE
BEGIN:VEVENT
DTSTART;TZID=UTC:20221215T090000
DTEND;TZID=UTC:20221215T180000
DTSTAMP:20260425T200636
CREATED:20220927T170604Z
LAST-MODIFIED:20230713T204512Z
UID:13684-1671094800-1671127200@corp.business
SUMMARY:Fundamentos da Remuneração Total - Conceitos\, Práticas e Tendências
DESCRIPTION:DESCRIÇÃO DO TREINAMENTO \nO curso foi elaborado abrangendo as etapas típicas do Plano de Cargos e Salários e principais componentes de Remuneração Total\, com formato bastante interativo\, de modo a maximizar o processo de absorção do conteúdo. \nPÚBLICO ALVO – Generalistas em RH – Business Partners – Gestores de Pessoas – Profissionais de Remuneração Iniciantes – Outros profissionais interessados em expandir conhecimento no tema \nCONTEÚDO \n\n– Componentes do Plano de Cargos e Salários\n– Descrição e Avaliação de Cargos – Pesquisa Salarial\n– Estatística Básica Aplicada à Remuneração\n– Estrutura Salarial (equidade interna e competitividade externa)\n– Política Salarial e Estratégia de Remuneração\n– Remuneração Fixa e Variável (PLR\, bônus diferido) – Remuneração Executiva (Stock Options\, RSUs\, etc.)\n– Pacote de Benefícios\n– Gestão de Desempenho\n– EVP\n– Aspectos não-monetários\n– Tendências da Relação Futura de Trabalho\n\nDURAÇÃO – Carga horária: 8 horas. \nREALIZAR INSCRIÇÃO
URL:https://corp.business/eventos/fundamentos-da-remuneracao-total-conceitos-praticas-e-tendencias/
LOCATION:100% ONLINE
CATEGORIES:Treinamentos
ATTACH;FMTTYPE=image/webp:https://corp.business/wp-content/uploads/2022/09/30-accounting-research-paper-topics-and-ideas-for-writing.webp
END:VEVENT
END:VCALENDAR