BEGIN:VCALENDAR
VERSION:2.0
PRODID:-//Corpbusiness - ECPv6.15.11//NONSGML v1.0//EN
CALSCALE:GREGORIAN
METHOD:PUBLISH
X-ORIGINAL-URL:https://corp.business
X-WR-CALDESC:Eventos para Corpbusiness
REFRESH-INTERVAL;VALUE=DURATION:PT1H
X-Robots-Tag:noindex
X-PUBLISHED-TTL:PT1H
BEGIN:VTIMEZONE
TZID:UTC
BEGIN:STANDARD
TZOFFSETFROM:+0000
TZOFFSETTO:+0000
TZNAME:UTC
DTSTART:20220101T000000
END:STANDARD
END:VTIMEZONE
BEGIN:VEVENT
DTSTART;TZID=UTC:20230207T090000
DTEND;TZID=UTC:20230207T180000
DTSTAMP:20260425T171139
CREATED:20220928T174653Z
LAST-MODIFIED:20230301T141614Z
UID:13692-1675760400-1675792800@corp.business
SUMMARY:Treinamento Formação Estratégica de Preços
DESCRIPTION:Explorando Pricing como instrumento de rentabilidade\nApresentação: No composto de marketing (os 4 P’s – produto\, preço\, praça e promoção)\, o preço é o único item que gera receita direta à organização. Um reflexo direto deste fato é que uma pequena variação no preço praticado pode ter um impacto significativo (positivo ou negativo) na rentabilidade de uma organização. Assim\, é preciso trabalhar a gestão dos preços de uma maneira estratégica\, mas poucas organizações exploram este potencial! \nAdicionar um percentual de margem de lucro ao custo de produção de um produto é uma maneira muito utilizada de precificação\, mas está distante de ser a mais eficiente. No caso da venda de serviços\, há também o desafio de quantificar os custos. Assim\, é importante entender e controlar outras variáveis que tenham impacto na percepção dos clientes sobre a oferta da organização\, buscando uma abordagem de criação de valor. \nEste curso permitirá aos participantes a aplicação prática destes conceitos para a gestão de preços\, por meio do desenvolvimento de um processo de precificação mais efetivo para a melhoria da rentabilidade. \nBenefícios: Após o treinamento\, o participante estará apto a: \nAplicar conceitos e ferramentas da gestão de preços no dia-a-dia dos negócios. \nIdentificar as atividades mercadológicas e financeiras que são impactadas pelas decisões de preços\, com vistas ao atingimento dos objetivos organizacionais. \nAnalisar oportunidades de agregação de valor aos produtos e serviços fornecidos. \nElaborar um plano de melhorias para o processo de formação de preços da organização. \nPúblico Alvo: Executivos dos departamentos de marketing\, vendas\, compras e finanças\, responsáveis ou relacionados às decisões de preços. \nObjetivos: \n\nCapacitar os participantes a aprimorar sua observação crítica das variáveis que impactam as decisões voltadas a preços\, custos e resultados.\nProporcionar um entendimento sobre a dinâmica do processo de precificação.\nDiscutir estratégias alternativas de precificação\, considerando as peculiaridades do negócio.\n\nInstrutor: Fábio Tescari \nDoutor e mestre em Administração de Empresas pela Fundação Getulio Vargas – EAESP/FGV com pesquisa sobre criação e captura de valor em relacionamentos interorganizacionais. É engenheiro químico formado pela Escola Politécnica da USP\, com pós-graduação em Gestão de Empresas pela ESPM e em Administração Industrial pela Fundação Carlos Alberto Vanzolini. Tem cerca de 20 anos de experiência executiva na indústria química\, com atuação nas áreas de estratégia\, vendas e marketing. É sócio-diretor da Orizontex Treinamentos\, atuando como consultor de empresas e instrutor de treinamentos de educação executiva. Desde 2010 ministra aulas em cursos de graduação e pós-graduação em escolas de negócios de primeira linha. \n\nFAÇA SUA MATRÍCULA
URL:https://corp.business/eventos/treinamento-formacao-estrategica-de-precos/
LOCATION:100% ONLINE
CATEGORIES:Treinamentos
ATTACH;FMTTYPE=image/jpeg:https://corp.business/wp-content/uploads/2022/09/iStock-1177540747-e1615231437957-1000x500-1.jpg
END:VEVENT
BEGIN:VEVENT
DTSTART;TZID=UTC:20230208T090000
DTEND;TZID=UTC:20230209T130000
DTSTAMP:20260425T171139
CREATED:20220929T184459Z
LAST-MODIFIED:20230207T184641Z
UID:13695-1675846800-1675947600@corp.business
SUMMARY:3ºEd: Fundamentos de Business Partner de RH
DESCRIPTION:Insights\, tendências e ferramentas essenciais\nPropósito: instigar os participantes a repensarem o papel d RH dentro das organizações e\, assim\, promoverem mais resultados para o negócio. Provocar uma transformação na mentalidade dos profissionais de RH – de um RH tático a um RH business challenger. Prover ferramentas práticas que ajudem na implantação do modelo e incrementem a prática profissional. Metodologia: treinamento construído sobre as bases dos métodos ativos de aprendizagem\, com uma abordagem muito interativa e mão-na-massa\, o que garante que o aluno se mantenha engajado durante toda a experiência e obtenha o máximo de retenção possível do conteúdo\, sendo capaz de implementá-lo de maneira prática com facilidade. Público-alvo: profissionais de gestão de pessoas que querem começar a atuar em posições ou com a mentalidade de HRBP. HRBPs que queiram se atualizar sobre tendências ou conhecer ferramentas práticas para apoiá-los no dia-a-dia profissional. \nInstrutor: Jussara Silva  \n16 anos de Carreira Corporativa em empresas Multinacionais\, Fintechs\, Consultorias e Startups.Forte atuação em Inteligência Organizacional\, soluções em Recrutamento\, Capacitação e Desenvolvimento de Pessoas em empresas como P&G\, EY\, ifood e KornFerry e Itaú. \nAdministradora com pós em Gestão de pessoas e Comportamento organizacional pela FIA e USP. Coaching focado no desenvolvimento de competências e alta performance.2 Mil horas de Treinamentos voltado para área de People\, apaixonada por Gente e Tecnologia.Fala sobre: Desenvolvimento\,Recrutamento; Inovação\, Diversidade; Liderança; Cultura organizacional e Gestão de Indicadores. \nREALIZAR MATRICULA\n\n					\n				\n					\n						  \n  \n 
URL:https://corp.business/eventos/fundamentos-de-business-partner-de-rh/
LOCATION:100% ONLINE
CATEGORIES:Treinamentos
ATTACH;FMTTYPE=image/jpeg:https://corp.business/wp-content/uploads/2022/09/5-dicas-para-fechar-negocios-imobiliarios-rapidamente-1280x640-1-1000x500-1.jpeg
END:VEVENT
END:VCALENDAR