BEGIN:VCALENDAR
VERSION:2.0
PRODID:-//Corpbusiness - ECPv6.15.11//NONSGML v1.0//EN
CALSCALE:GREGORIAN
METHOD:PUBLISH
X-ORIGINAL-URL:https://corp.business
X-WR-CALDESC:Eventos para Corpbusiness
REFRESH-INTERVAL;VALUE=DURATION:PT1H
X-Robots-Tag:noindex
X-PUBLISHED-TTL:PT1H
BEGIN:VTIMEZONE
TZID:America/Sao_Paulo
BEGIN:STANDARD
TZOFFSETFROM:-0300
TZOFFSETTO:-0300
TZNAME:-03
DTSTART:20220101T000000
END:STANDARD
END:VTIMEZONE
BEGIN:VEVENT
DTSTART;TZID=America/Sao_Paulo:20230718T090000
DTEND;TZID=America/Sao_Paulo:20230718T180000
DTSTAMP:20260425T094013
CREATED:20230325T224442Z
LAST-MODIFIED:20230627T175123Z
UID:13805-1689670800-1689703200@corp.business
SUMMARY:Treinamento Gestão de Contratos – Fases e etapas dos contratos empresariais
DESCRIPTION:Objetivo\n\n\n\nOrientar profissionais que estão envolvidos na gestão de contratos para que  possam entender as técnicas\, métodos e boas práticas e utilizá-las em seu dia a dia.\nPermitir o entendimento dos participantes sobre o que representa\, na realidade\, a gestão de contratos dentro das organizações.\nCapacitar os participantes para que possam apoiar a implantação e execução de melhorias na gestão de contratos dentro de suas atividades e organizações.\n\n\n\n\nPúblico alvo:\n\n\n\nGestores de contratos\nProfissionais das áreas de Compras e Logísticas\nProfissionais de demais áreas das empresas que tem envolvimento com processos de contratos (demanda\, contratação e monitoração de contratos nas áreas de marketing\, financeiro\, engenharia\, manutenção\, materiais\, produção\, RH\, jurídico\, entre outras)\n\n\n\nSegue conteúdo programático: \n\nPropósito da aplicação de contratos nas empresas\nContratos do lado de Compras e outros tipos\nO CLM\nA Gestão de contratos\nPapel estratégico dos contratos\nOs processos de negócios relacionados com contratos\nPlanejamento e definição de requisitos (escopo) para as contratações\nPerformance operacional – contratação e gestão\nGovernança e Compliance no CLM\nControles através de SLAs/KPIs\nO desenvolvimento dos profissionais gestores de contratos\nTecnologia aplicada a gestão de contratos\n\nCarga Horária: 8 Horas. \nFAÇA SUA MATRÍCULA
URL:https://corp.business/eventos/treinamento-gestao-de-contratos-fases-e-etapas-dos-contratos-empresariais/
LOCATION:100% ONLINE
CATEGORIES:Treinamentos
ATTACH;FMTTYPE=image/jpeg:https://corp.business/wp-content/uploads/2023/03/banner2-1-1000x500-1.jpg
END:VEVENT
END:VCALENDAR