BEGIN:VCALENDAR
VERSION:2.0
PRODID:-//Corpbusiness - ECPv6.15.11//NONSGML v1.0//EN
CALSCALE:GREGORIAN
METHOD:PUBLISH
X-WR-CALNAME:Corpbusiness
X-ORIGINAL-URL:https://corp.business
X-WR-CALDESC:Eventos para Corpbusiness
REFRESH-INTERVAL;VALUE=DURATION:PT1H
X-Robots-Tag:noindex
X-PUBLISHED-TTL:PT1H
BEGIN:VTIMEZONE
TZID:America/Sao_Paulo
BEGIN:STANDARD
TZOFFSETFROM:-0300
TZOFFSETTO:-0300
TZNAME:-03
DTSTART:20220101T000000
END:STANDARD
END:VTIMEZONE
BEGIN:VEVENT
DTSTART;TZID=America/Sao_Paulo:20230803T090000
DTEND;TZID=America/Sao_Paulo:20230804T130000
DTSTAMP:20260425T081835
CREATED:20221221T143112Z
LAST-MODIFIED:20230724T181439Z
UID:13731-1691053200-1691154000@corp.business
SUMMARY:Política de Cobrança e Controle da Inadimplência
DESCRIPTION:Apresentação:  O curso apresenta os conceitos necessários para instituição de uma política de cobrança e controle da inadimplência pelas empresas\, fundamentados na integração e relacionamento harmônico entre os processos de concessão de crédito\, cobrança e comerciais\, como ferramenta para se alcançar os melhores resultados para a empresa. Discute as variáveis envolvidas e propõe alternativas para tornar mais eficientes a prevenção da inadimplência\, o processo de cobrança e o gerenciamento da carteira de crédito. \nObjetivos:  Conhecer o processo de cobrança e sua interação do com os demais processos da empresa. Identificar os principais aspectos da concessão de crédito que reduzem a inadimplência e tornam mais efetivas as ações de cobrança. Capacitar os participantes para o desenvolvimento de parâmetros e estratégias que possibilitem o recebimento dos créditos concedidos com menor custo e mais eficiência. Habilitar os participantes ao gerenciamento de carteiras de crédito. \nPúblico-alvo: Gestores e analistas responsáveis pelos processos de concessão de crédito\, cobrança e gerenciamento da carteira de crédito de empresas; demais profissionais envolvidos\, direta ou indiretamente\, com esses processos. \nMetodologia:  Exposição dos conceitos\, com apoio de exemplos práticos e participação dos alunos a partir de suas experiências profissionais. Exercício para fixação e aplicação do conteúdo. \nInstrutora: Alcimere Noventa \nExecutiva da área de crédito e cobrança com 25 anos de experiência. Atuação nos segmentos de concessão de crédito de empresas de serviços massificados\, serviços financeiros\, varejo\, e nos diferentes segmentos na indústria\, \nCarga horária: 8 h \nData: 03 e 04 de Agosto. \nFAÇA SUA MATRÍCULA
URL:https://corp.business/eventos/politica-de-cobranca-e-controle-da-inadimplencia/
LOCATION:100% ONLINE
CATEGORIES:Treinamentos
ATTACH;FMTTYPE=image/png:https://corp.business/wp-content/uploads/2022/12/82.png
END:VEVENT
BEGIN:VEVENT
DTSTART;TZID=America/Sao_Paulo:20230824T090000
DTEND;TZID=America/Sao_Paulo:20230825T130000
DTSTAMP:20260425T081835
CREATED:20230703T191110Z
LAST-MODIFIED:20230714T163645Z
UID:13866-1692867600-1692968400@corp.business
SUMMARY:Treinamento Métricas e Gestão Estratégicas Financeira
DESCRIPTION:Apresentação \nO curso tem por finalidade apresentar os principais conceitos de gestão financeira de empresas. Serão abordados aspectos importantes envolvendo controladoria\, tesouraria e gestão de riscos. \nUm bom gestor financeiro precisa entender as diferenças entre os regimes de caixa e de competência. Serão trabalhados os conceitos de avaliação de performance e gestão de resultados e\, também\, a administração do fluxo de caixa com foco na capital de giro. \n  \nObjetivo \nAo final do curso\, o aluno estará apto a entender e aplicar as principais ferramentas de gestão financeira nas empresas visando\, com isto\, preservar a liquidez da empresa e buscar a maximização dos resultados e geração de valor para o acionista. \n  \nPúblico-alvo \nEste programa é voltado para executivos financeiros de empresas\, empreendedores e estudantes  que tenham a intenção de conhecer as principais ferramentas de gestão financeira nas empresas \n  \nCarga horária: 08 horas \nData & Horário: 24 e 25 de Agosto – 9h às 13h \n  \nInstrutor  \nWellington Lopes de Souza \nFormado em Ciências Econômicas pela Unicamp\, com MBA Executivo em Finanças pelo IBMEC/Insper e Mestrado em Administração com ênfase em Finanças pela Universidade Mackenzie.  Atuou no mercado financeiro por 24 anos como Sênior Banker de grandes instituições  financeiras. É sócio da empresa Stracta Consultoria e professor nos cursos MBA em Finanças do Ibmec\, de pós-graduação da FIA – Fundação Instituto de Administração e de cursos ¨in company¨ no Insper. \nInvestimento: R$1.680\,00  Garanta 10% de desconto realizando sua inscrição até 20/07. \nPara mais informações e pacotes: barbara.santos@corpbusiness.com.br – Whatsapp 11 93731-2724
URL:https://corp.business/eventos/treinamento-metricas-e-gestao-estrategicas-financeiras/
LOCATION:100% ONLINE
CATEGORIES:Treinamentos
ATTACH;FMTTYPE=image/png:https://corp.business/wp-content/uploads/2023/07/Prancheta-2-7.png
END:VEVENT
END:VCALENDAR