BEGIN:VCALENDAR
VERSION:2.0
PRODID:-//Corpbusiness - ECPv6.15.11//NONSGML v1.0//EN
CALSCALE:GREGORIAN
METHOD:PUBLISH
X-ORIGINAL-URL:https://corp.business
X-WR-CALDESC:Eventos para Corpbusiness
REFRESH-INTERVAL;VALUE=DURATION:PT1H
X-Robots-Tag:noindex
X-PUBLISHED-TTL:PT1H
BEGIN:VTIMEZONE
TZID:UTC
BEGIN:STANDARD
TZOFFSETFROM:+0000
TZOFFSETTO:+0000
TZNAME:UTC
DTSTART:20220101T000000
END:STANDARD
END:VTIMEZONE
BEGIN:VEVENT
DTSTART;TZID=UTC:20230302T090000
DTEND;TZID=UTC:20230302T180000
DTSTAMP:20260425T171607
CREATED:20220926T173912Z
LAST-MODIFIED:20230207T142345Z
UID:13528-1677747600-1677780000@corp.business
SUMMARY:Treinamento Análise de Crédito e Cobrança - 02 de Março
DESCRIPTION: Apresentação \nO curso tem por finalidade apresentar os conceitos de análise de risco de crédito para que possam ser utilizados na alavancagem de vendas das empresas sem que haja elevação da inadimplência por conta do risco de atrasos ou de não pagamento por parte de seus clientes. Em caso de inadimplência\, faz-se necessário também analisar e conhecer as estratégias para a recuperação dos créditos atrasados. \n  \nObjetivo \nAo final do curso\, o aluno estará apto a entender e aplicar as principais ferramentas de análise de risco de crédito das empresas\, visando com isto alavancar as vendas num contexto de minimização de riscos. \n  \nPúblico-alvo \nEste programa é voltado para estudantes universitários\, profissionais e empreendedores que tenham a intenção de conhecer as principais ferramentas de análise de risco de crédito das empresas. \n  \nCarga horária: 8 horas \nInstrutor  \nWellington Lopes de Souza \nFormado em Ciências Econômicas pela Unicamp\, com MBA Executivo em Finanças pelo IBMEC/Insper e Mestrado em Administração com ênfase em Finanças pela Universidade Mackenzie.  Atuou no mercado financeiro por 24 anos como Sênior Banker de grandes instituições  financeiras. É sócio da empresa Stracta Consultoria e professor nos cursos MBA em Finanças do Ibmec e de pós-graduação da FIA – Fundação Instituto de Administração. \nConteúdo programático: \n\nConceitos de riscos e suas modalidades\nConceito de risco\nModalidades de riscos\nRisco de crédito\n\n\nA análise de crédito qualitativa\n6 Cs do credito\n\n\nA análise de crédito quantitativa\nO Balanço Patrimonial\nO Demonstrativo de Resultados do Exercicio (DRE)\nÍndices financeiros\n\nO EBITDA\nLiquidez\nEstrutura de capital\nRentabilidade\n\n\nA Necessidade de capital de Giro (NCG)\n\n\nOs processos e as políticas de crédito\nO fluxo da decisão\nA política de alçadas\nO monitoramento de riscos\nO rating\nAs estratégias de recuperação do crédito\n\n  \n\nAtividade prática envolvendo aplicação de case \n\nINSCREVA-SE
URL:https://corp.business/eventos/treinamento-analise-de-credito-e-cobranca/
LOCATION:100% ONLINE
CATEGORIES:Treinamentos
ATTACH;FMTTYPE=image/jpeg:https://corp.business/wp-content/uploads/2022/09/accounttechapprentice-851x500-1.jpg
END:VEVENT
END:VCALENDAR