BEGIN:VCALENDAR
VERSION:2.0
PRODID:-//Corpbusiness - ECPv6.15.11//NONSGML v1.0//EN
CALSCALE:GREGORIAN
METHOD:PUBLISH
X-ORIGINAL-URL:https://corp.business
X-WR-CALDESC:Eventos para Corpbusiness
REFRESH-INTERVAL;VALUE=DURATION:PT1H
X-Robots-Tag:noindex
X-PUBLISHED-TTL:PT1H
BEGIN:VTIMEZONE
TZID:America/Sao_Paulo
BEGIN:STANDARD
TZOFFSETFROM:-0300
TZOFFSETTO:-0300
TZNAME:-03
DTSTART:20220101T000000
END:STANDARD
END:VTIMEZONE
BEGIN:VEVENT
DTSTART;TZID=America/Sao_Paulo:20231017T090000
DTEND;TZID=America/Sao_Paulo:20231017T180000
DTSTAMP:20260423T191346
CREATED:20230811T193137Z
LAST-MODIFIED:20230913T125238Z
UID:13894-1697533200-1697565600@corp.business
SUMMARY:Congresso Planejamento & Análise Financeira
DESCRIPTION:UM POUCO SOBRE O CONGRESSO\nANÁLISE DE CENÁRIOS E ESTRATÉGIAS FP&A\nBem-vindos ao Fórum Estratégico de Financial Planning & Analysis! Este evento exclusivo foi cuidadosamente planejado para reunir executivos sênior de alto nível\, proporcionando uma oportunidade única para discutir e aprofundar conhecimentos sobre as tendências e melhores práticas em FP&A. Neste fórum\, vamos explorar temas atuais e relevantes que moldam o futuro do planejamento financeiro e da análise para o sucesso sustentável das organizações. Preparem-se para participar de discussões estratégicas de alto nível e fortalecer suas decisões com insights valiosos. \nEste fórum é uma oportunidade para líderes executivos trocarem ideias\, aprofundarem conhecimentos e desenvolverem estratégias inovadoras em Financial Planning & Analysis. Contamos com a presença de cada um de vocês para tornar este evento memorável e impactante. \nJuntos\, iremos moldar o futuro do FP&A e fortalecer o caminho para o sucesso sustentável das organizações em um mundo em constante transformação. \nINSCREVA-SE
URL:https://corp.business/eventos/congresso-planejamento-analise-financeira/
LOCATION:Hotel Slaviero Downtown São Paulo – Rua: Araujo\, 141  Republica  – São Paulo – (11) 3504-3959
CATEGORIES:Eventos
ATTACH;FMTTYPE=image/webp:https://corp.business/wp-content/uploads/2023/08/633f1863caf352596bc636cf_o-que-e-fpna_thumbnail.webp
END:VEVENT
END:VCALENDAR