BEGIN:VCALENDAR
VERSION:2.0
PRODID:-//Corpbusiness - ECPv6.15.11//NONSGML v1.0//EN
CALSCALE:GREGORIAN
METHOD:PUBLISH
X-ORIGINAL-URL:https://corp.business
X-WR-CALDESC:Eventos para Corpbusiness
REFRESH-INTERVAL;VALUE=DURATION:PT1H
X-Robots-Tag:noindex
X-PUBLISHED-TTL:PT1H
BEGIN:VTIMEZONE
TZID:America/Sao_Paulo
BEGIN:STANDARD
TZOFFSETFROM:-0300
TZOFFSETTO:-0300
TZNAME:-03
DTSTART:20230101T000000
END:STANDARD
END:VTIMEZONE
BEGIN:VEVENT
DTSTART;TZID=America/Sao_Paulo:20241203T090000
DTEND;TZID=America/Sao_Paulo:20241204T180000
DTSTAMP:20260421T233035
CREATED:20241003T152630Z
LAST-MODIFIED:20241004T121445Z
UID:14070-1733216400-1733335200@corp.business
SUMMARY:Congresso Sales & Operations 2024
DESCRIPTION:Prepare-se para transformar o planejamento de vendas e operações da sua empresa!\nO Congresso S&OP é o principal evento voltado para profissionais e líderes que buscam aperfeiçoar o planejamento de vendas e operações em suas empresas. Em um ambiente dinâmico e colaborativo\, este congresso oferece insights inovadores e estratégias práticas para alinhar vendas\, marketing\, finanças e operações. \nNos dois dias de evento\, os participantes terão a chance de aprender com especialistas renomados\, discutir desafios e soluções atuais\, além de explorar as mais recentes tendências tecnológicas para otimizar o S&OP\, garantindo maior competitividade e crescimento sustentável. \nPontos Importantes para os Participantes:\n\nCapacitação Estratégica: Conhecer as tendências e práticas mais inovadoras do mercado.\nCasos Reais: Aprender com as experiências de empresas líderes.\nNetworking: Oportunidade de conectar-se com profissionais e líderes do setor.\nInovações Tecnológicas: Descobrir novas soluções tecnológicas para otimizar o S&OP.\n\nDesafios e Oportunidades:\nEste congresso é ideal para executivos e gestores que buscam transformar seus processos de S&OP\, melhorando a integração entre as áreas de vendas\, finanças\, marketing\, e operações.\nINSCREVA-SE
URL:https://corp.business/eventos/congresso-sales-operations-2024/
LOCATION:Gran Villagio Hotel\, Rua martins fontes 330
CATEGORIES:Eventos
ATTACH;FMTTYPE=image/jpeg:https://corp.business/wp-content/uploads/2019/07/Online-Payment-072418.jpg
END:VEVENT
BEGIN:VEVENT
DTSTART;TZID=America/Sao_Paulo:20241210T090000
DTEND;TZID=America/Sao_Paulo:20241211T180000
DTSTAMP:20260421T233035
CREATED:20241004T120704Z
LAST-MODIFIED:20241004T152626Z
UID:14077-1733821200-1733940000@corp.business
SUMMARY:Fórum: Excelência em Processos 2024
DESCRIPTION:Fórum: Excelência em Processos\nO Fórum: Excelência em Processos 2024 é uma imersão de dois dias dedicada a explorar as melhores práticas\, inovações e estratégias na gestão de processos empresariais. O evento reúne líderes empresariais\, especialistas em gestão de processos e profissionais de diversas indústrias para compartilhar conhecimentos e experiências. O objetivo é capacitar os participantes a otimizar e transformar seus processos de negócios\, promovendo a eficiência\, a qualidade e a inovação em suas organizações. \n\nCapacitar Líderes e Profissionais:\n\nProporcionar conhecimentos avançados e práticos sobre gestão de processos.\nDesenvolver habilidades de liderança e gestão para a implementação de melhorias contínuas.\n\n\nPromover Inovações e Melhores Práticas:\n\nApresentar as últimas tendências e inovações em gestão de processos.\nDiscutir casos de sucesso e estudos de caso reais.\n\n\nFacilitar Networking e Colaboração:\n\nCriar oportunidades para networking com líderes da indústria e especialistas.\nPromover a troca de ideias e experiências entre os participantes.\n\n\nExplorar Soluções Práticas:\n\nOferecer insights sobre desafios comuns na gestão de processos e suas soluções.\nAbordar estratégias para a implementação prática de melhorias e inovações.\n\n\n\nPúblico-Alvo:\n\nCEOs e Executivos\nDiretores de Operações (COOs)\nGerentes de Processos e Qualidade\nProfissionais de TI e Automação\nConsultores e Analistas de Negócios\n\nEste fórum é uma oportunidade única para profissionais e líderes empresariais se aprofundarem na gestão de processos\, adquirindo conhecimentos práticos e estratégicos que podem ser aplicados diretamente em suas organizações para alcançar a excelência operacional. \nINSCREVA-SE
URL:https://corp.business/eventos/forum-excelencia-em-processos-2024/
LOCATION:Hotel Slaviero Downtown São Paulo – Rua: Araujo\, 141  Republica  – São Paulo – (11) 3504-3959
CATEGORIES:Eventos
ATTACH;FMTTYPE=image/jpeg:https://corp.business/wp-content/uploads/2024/10/slide-01-1894x1042-1.jpg
END:VEVENT
END:VCALENDAR