BEGIN:VCALENDAR
VERSION:2.0
PRODID:-//Corpbusiness - ECPv6.15.11//NONSGML v1.0//EN
CALSCALE:GREGORIAN
METHOD:PUBLISH
X-WR-CALNAME:Corpbusiness
X-ORIGINAL-URL:https://corp.business
X-WR-CALDESC:Eventos para Corpbusiness
REFRESH-INTERVAL;VALUE=DURATION:PT1H
X-Robots-Tag:noindex
X-PUBLISHED-TTL:PT1H
BEGIN:VTIMEZONE
TZID:America/Sao_Paulo
BEGIN:STANDARD
TZOFFSETFROM:-0300
TZOFFSETTO:-0300
TZNAME:-03
DTSTART:20240101T000000
END:STANDARD
END:VTIMEZONE
BEGIN:VEVENT
DTSTART;TZID=America/Sao_Paulo:20250910T090000
DTEND;TZID=America/Sao_Paulo:20250911T180000
DTSTAMP:20260420T192535
CREATED:20250226T135903Z
LAST-MODIFIED:20250605T152005Z
UID:14121-1757494800-1757613600@corp.business
SUMMARY:RH Fórum 2025
DESCRIPTION:O RH SUMMIT 2025 chega para redefinir o futuro do setor de Recursos Humanos. Em um cenário cada vez mais digital e dinâmico\, as empresas precisam se reinventar para atrair\, reter e desenvolver talentos. Este evento foi cuidadosamente projetado para capacitar profissionais de RH com insights estratégicos\, tecnologias inovadoras e as melhores práticas do mercado. \nDurante dois dias intensos\, líderes e especialistas do setor irão compartilhar experiências e soluções para os desafios da transformação digital no RH\, promovendo um ambiente de aprendizado\, troca de ideias e networking qualificado. \nPor que Participar do RH SUMMIT 2025? \n\nAtualização Estratégica: Conheça as principais tendências e tecnologias que estão revolucionando o RH.\nConteúdo Exclusivo: Palestras e painéis com os maiores especialistas do setor.\nNetworking de Alto Nível: Conecte-se com profissionais e empresas que estão liderando a inovação.\nCasos de Sucesso: Descubra como grandes organizações estão implementando a transformação digital no RH.\n\nINSCREVA-SE
URL:https://corp.business/eventos/rh-summit-2025/
LOCATION:Hotel Slaviero Downtown São Paulo\, R. Araújo\, 141 - República\, São Paulo\, SP\, 01220-020\, Brazil
CATEGORIES:Eventos
ATTACH;FMTTYPE=image/png:https://corp.business/wp-content/uploads/2025/02/Tendencias-em-recursos-humanos-transformacoes-no-RH-brasileiro.png
ORGANIZER;CN="Equipe Corpbusiness":MAILTO:contato@corpbusiness.com.br
END:VEVENT
BEGIN:VEVENT
DTSTART;TZID=America/Sao_Paulo:20250924T090000
DTEND;TZID=America/Sao_Paulo:20250925T180000
DTSTAMP:20260420T192535
CREATED:20250715T125922Z
LAST-MODIFIED:20250717T111409Z
UID:14182-1758704400-1758823200@corp.business
SUMMARY:Gestão de Contratos 2025
DESCRIPTION:Gestão de Contratos 2025 é o principal encontro nacional voltado à evolução da governança contratual\, reunindo executivos das áreas jurídica\, compras\, compliance\, PMO\, controladoria\, obras e supply chain. \nSerão 2 dias de imersão com 16 temas estratégicos\, discussões práticas e 2 workshops exclusivos sobre automação\, mitigação de riscos\, compliance\, ESG e digitalização do ciclo contratual. \nNetworking Estratégico \nConecte-se com mais de 500 executivos e líderes do setor \nConteúdo Exclusivo \n16 palestras com cases reais e soluções práticas \nInovação e Tecnologia \nDescubra as últimas tendências em IA e automação contratual \nFAÇA SUA INSCRIÇÃO!
URL:https://corp.business/eventos/gestao-de-contratos-2025/
LOCATION:São Paulo – SP
CATEGORIES:Eventos
ATTACH;FMTTYPE=image/png:https://corp.business/wp-content/uploads/2025/07/sistema-de-gerenciamento-de-contratos-1.png
END:VEVENT
END:VCALENDAR