BEGIN:VCALENDAR
VERSION:2.0
PRODID:-//Corpbusiness - ECPv6.15.11//NONSGML v1.0//EN
CALSCALE:GREGORIAN
METHOD:PUBLISH
X-WR-CALNAME:Corpbusiness
X-ORIGINAL-URL:https://corp.business
X-WR-CALDESC:Eventos para Corpbusiness
REFRESH-INTERVAL;VALUE=DURATION:PT1H
X-Robots-Tag:noindex
X-PUBLISHED-TTL:PT1H
BEGIN:VTIMEZONE
TZID:America/Sao_Paulo
BEGIN:STANDARD
TZOFFSETFROM:-0300
TZOFFSETTO:-0300
TZNAME:-03
DTSTART:20240101T000000
END:STANDARD
END:VTIMEZONE
BEGIN:VEVENT
DTSTART;TZID=America/Sao_Paulo:20251210T080000
DTEND;TZID=America/Sao_Paulo:20251211T180000
DTSTAMP:20260420T083441
CREATED:20250715T125708Z
LAST-MODIFIED:20250911T123449Z
UID:14179-1765353600-1765476000@corp.business
SUMMARY:S&OP 2025
DESCRIPTION:O Congresso S&OP é o principal evento voltado para profissionais e líderes que buscam\naperfeiçoar o planejamento de vendas e operações em suas empresas. \nEm um ambiente\ndinâmico e colaborativo\, este congresso oferece insights inovadores e estratégias práticas para\nalinhar vendas\, marketing\, finanças e operações. \nNos dois dias de evento\, os participantes terão a chance de aprender com especialistas\nrenomados\, discutir desafios e soluções atuais\, além de explorar as mais recentes tendências\ntecnológicas para otimizar o S&OP\, garantindo maior competitividade e crescimento sustentável. \nFAÇA SUA INSCRIÇÃO!
URL:https://corp.business/eventos/sop-2025/
LOCATION:São Paulo – SP
CATEGORIES:Eventos
ATTACH;FMTTYPE=image/webp:https://corp.business/wp-content/uploads/2025/07/sales.webp
END:VEVENT
END:VCALENDAR