BEGIN:VCALENDAR
VERSION:2.0
PRODID:-//Corpbusiness - ECPv6.15.11//NONSGML v1.0//EN
CALSCALE:GREGORIAN
METHOD:PUBLISH
X-WR-CALNAME:Corpbusiness
X-ORIGINAL-URL:https://corp.business
X-WR-CALDESC:Eventos para Corpbusiness
REFRESH-INTERVAL;VALUE=DURATION:PT1H
X-Robots-Tag:noindex
X-PUBLISHED-TTL:PT1H
BEGIN:VTIMEZONE
TZID:America/Sao_Paulo
BEGIN:STANDARD
TZOFFSETFROM:-0300
TZOFFSETTO:-0300
TZNAME:-03
DTSTART:20250101T000000
END:STANDARD
END:VTIMEZONE
BEGIN:VEVENT
DTSTART;TZID=America/Sao_Paulo:20260506T090000
DTEND;TZID=America/Sao_Paulo:20260507T180000
DTSTAMP:20260419T184337
CREATED:20250822T180604Z
LAST-MODIFIED:20260226T030607Z
UID:14206-1778058000-1778176800@corp.business
SUMMARY:Procurement Excellence 2026
DESCRIPTION:O Procurement Excellence 2026 será o maior ponto de encontro entre líderes de Procurement\, Jurídico Contratual\, Supply Chain e áreas de Governança de Fornecedores. Em dois dias de conteúdos inéditos\, casos reais e discussões estratégicas\, o congresso vai explorar os desafios e oportunidades na jornada de transformação dos modelos de gestão de terceiros. \nEm um cenário onde riscos\, ESG e compliance ganham protagonismo\, a atuação do VMO se torna essencial para garantir a excelência\, eficiência e resiliência nas operações corporativas. \nPúblico-Alvo \n· Heads e Diretores de Compras e Suprimentos \n· Líderes de Procurement & Contract Management \n· Gestores de Fornecedores (VMO/TPRM) \n· Executivos de Jurídico Contratual e Compliance \n· Profissionais de Riscos\, ESG e Auditoria \n· Especialistas em Governança de Terceiros e SLA \nDestaques da Programação \n· 16 palestras estratégicas com executivos de empresas como Ambev\, Embraer\, Nestlé\, Klabin\, Gerdau\, Raízen\, Vivo\, Natura e mais \n· 2 workshops práticos sobre maturidade em gestão de terceiros e ESG na cadeia de suprimentos \n· Painéis interativos com especialistas em contratos\, auditoria e digitalização \n· Networking qualificado com decisores de grandes empresas. \nFAÇA SUA INSCRIÇÃO!
URL:https://corp.business/eventos/procurement-excellence-2026/
LOCATION:São Paulo – SP
CATEGORIES:Eventos
ATTACH;FMTTYPE=image/png:https://corp.business/wp-content/uploads/2025/08/m1nycgy0ca4y7r8h64mzcciefz3j.png
END:VEVENT
BEGIN:VEVENT
DTSTART;TZID=America/Sao_Paulo:20260520T090000
DTEND;TZID=America/Sao_Paulo:20260521T180000
DTSTAMP:20260419T184337
CREATED:20260222T230501Z
LAST-MODIFIED:20260319T130921Z
UID:14286-1779267600-1779386400@corp.business
SUMMARY:Internal Communications 2026
DESCRIPTION:Transformando Silos em Conexões: O Futuro da Comunicação Estratégica nas Organizações Inteligentes \n“Transformando Silos em Conexões: O Futuro da Comunicação Estratégica nas Organizações Inteligentes” \nConceito Central: \nA comunicação interna deixou de ser um departamento de suporte para se tornar um motor estratégico de transformação organizacional. O Summit de Comunicação Interna 2026 é o principal ponto de encontro para líderes que compreendem que uma comunicação interna eficaz não é apenas sobre disseminar mensagens\, mas sobre construir culturas de confiança\, engajamento e inovação que impulsionam resultados de negócio. \n  \nEm um cenário de transformação digital acelerada\, mudanças culturais profundas e expectativas crescentes de transparência e inclusão\, a comunicação interna tornou-se crítica para o sucesso organizacional. As empresas enfrentam desafios sem precedentes: como comunicar mudanças complexas em ambientes híbridos? Como construir engajamento em organizações fragmentadas? Como usar a comunicação como ferramenta de retenção de talentos e inovação? O Summit de Comunicação Interna 2026 nasce como resposta a estes desafios\, reunindo a vanguarda de profissionais que estão redefinindo o papel da comunicação nas organizações. \n  \nO propósito central do summit é demonstrar como a tríade de autenticidade\, tecnologia e estratégia está transformando radicalmente a comunicação interna. Vamos explorar como as organizações estão usando comunicação para construir culturas resilientes\, como a IA e a automação estão personalizando mensagens em escala\, e como a comunicação interna está se tornando um centro de inteligência organizacional que conecta estratégia\, pessoas e resultados. Este é o fórum para líderes que buscam transformar seus departamentos de comunicação em centros de excelência estratégica. \nFAÇA SUA INSCRIÇÃO!
URL:https://corp.business/eventos/internal-communications-2026/
LOCATION:São Paulo – SP
CATEGORIES:Eventos
ATTACH;FMTTYPE=image/png:https://corp.business/wp-content/uploads/2026/02/imagem_2026-03-19_100825266.png
END:VEVENT
END:VCALENDAR